BEGIN:VCALENDAR
VERSION:2.0
PRODID:-//Inland Empire Golf Course Superintendent Association - ECPv6.15.18//NONSGML v1.0//EN
CALSCALE:GREGORIAN
METHOD:PUBLISH
X-ORIGINAL-URL:https://iegcsa.org
X-WR-CALDESC:Events for Inland Empire Golf Course Superintendent Association
REFRESH-INTERVAL;VALUE=DURATION:PT1H
X-Robots-Tag:noindex
X-PUBLISHED-TTL:PT1H
BEGIN:VTIMEZONE
TZID:America/Los_Angeles
BEGIN:DAYLIGHT
TZOFFSETFROM:-0800
TZOFFSETTO:-0700
TZNAME:PDT
DTSTART:20220313T100000
END:DAYLIGHT
BEGIN:STANDARD
TZOFFSETFROM:-0700
TZOFFSETTO:-0800
TZNAME:PST
DTSTART:20221106T090000
END:STANDARD
BEGIN:DAYLIGHT
TZOFFSETFROM:-0800
TZOFFSETTO:-0700
TZNAME:PDT
DTSTART:20230312T100000
END:DAYLIGHT
BEGIN:STANDARD
TZOFFSETFROM:-0700
TZOFFSETTO:-0800
TZNAME:PST
DTSTART:20231105T090000
END:STANDARD
BEGIN:DAYLIGHT
TZOFFSETFROM:-0800
TZOFFSETTO:-0700
TZNAME:PDT
DTSTART:20240310T100000
END:DAYLIGHT
BEGIN:STANDARD
TZOFFSETFROM:-0700
TZOFFSETTO:-0800
TZNAME:PST
DTSTART:20241103T090000
END:STANDARD
END:VTIMEZONE
BEGIN:VEVENT
DTSTART;TZID=America/Los_Angeles:20231021T073000
DTEND;TZID=America/Los_Angeles:20231021T160000
DTSTAMP:20260425T151723
CREATED:20151012T193034Z
LAST-MODIFIED:20240911T185713Z
UID:1023-1697873400-1697904000@iegcsa.org
SUMMARY:IEGCSA Pesticide Meeting 2024 is October 21. Save the date!
DESCRIPTION:Join us for the Pesticide Meeting October 21\, 2024\, Hayden Lake Country Club\, Hayden Lake\, Idaho \nWe are expected to receive (7) Idaho and (7) Washington pesticide re-certification credits!  Earn GCSAA EDUs! \nConference moderated by Bill Griffith\, Retired\, Walla Walla College of Excellence \n  \n  \n Pesticide Meeting Event Sponsor: TurfStar  
URL:https://iegcsa.org/event/pesticide-meeting-october-2024/
END:VEVENT
END:VCALENDAR