BEGIN:VCALENDAR
VERSION:2.0
PRODID:-//Inland Empire Golf Course Superintendent Association - ECPv6.15.18//NONSGML v1.0//EN
CALSCALE:GREGORIAN
METHOD:PUBLISH
X-ORIGINAL-URL:https://iegcsa.org
X-WR-CALDESC:Events for Inland Empire Golf Course Superintendent Association
REFRESH-INTERVAL;VALUE=DURATION:PT1H
X-Robots-Tag:noindex
X-PUBLISHED-TTL:PT1H
BEGIN:VTIMEZONE
TZID:America/Los_Angeles
BEGIN:DAYLIGHT
TZOFFSETFROM:-0800
TZOFFSETTO:-0700
TZNAME:PDT
DTSTART:20230312T100000
END:DAYLIGHT
BEGIN:STANDARD
TZOFFSETFROM:-0700
TZOFFSETTO:-0800
TZNAME:PST
DTSTART:20231105T090000
END:STANDARD
BEGIN:DAYLIGHT
TZOFFSETFROM:-0800
TZOFFSETTO:-0700
TZNAME:PDT
DTSTART:20240310T100000
END:DAYLIGHT
BEGIN:STANDARD
TZOFFSETFROM:-0700
TZOFFSETTO:-0800
TZNAME:PST
DTSTART:20241103T090000
END:STANDARD
BEGIN:DAYLIGHT
TZOFFSETFROM:-0800
TZOFFSETTO:-0700
TZNAME:PDT
DTSTART:20250309T100000
END:DAYLIGHT
BEGIN:STANDARD
TZOFFSETFROM:-0700
TZOFFSETTO:-0800
TZNAME:PST
DTSTART:20251102T090000
END:STANDARD
END:VTIMEZONE
BEGIN:VEVENT
DTSTART;TZID=America/Los_Angeles:20240325T060000
DTEND;TZID=America/Los_Angeles:20240429T190000
DTSTAMP:20260425T054609
CREATED:20220421T202807Z
LAST-MODIFIED:20240328T151654Z
UID:3498-1711346400-1714417200@iegcsa.org
SUMMARY:Rounds 4 Research - April 22-April 28!  Check out these great opportunities for golf
DESCRIPTION:There are incredible opportunities for great deals on golf in your region… places to play on vacation…and a perfect way to set up a golf road trip while benefiting the future of golf! \nStarting March 29 you can browse the courses available to bid on between April 22 – April 28. Facilities will be listed by state! \nRounds 4 Research\, an innovative program aimed at generating resources to fund research and help ensure golf’s future. Rounds 4 Research provides a way for all aspects of the game to come together to ensure its future. \nWould your golf facility like to donate to Rounds4Research? CLICK HERE \n 
URL:https://iegcsa.org/event/rounds4research-april-25-may-1-check-out-these-great-opportunities-for-golf/
ATTACH;FMTTYPE=image/jpeg:https://iegcsa.org/wp-content/uploads/2022/04/24_FOUND_R4R_Rounds-4-Research-Promos_Preview-and-Bid_1230x350.jpg
END:VEVENT
END:VCALENDAR