BEGIN:VCALENDAR
VERSION:2.0
PRODID:-//Inland Empire Golf Course Superintendent Association - ECPv6.15.18//NONSGML v1.0//EN
CALSCALE:GREGORIAN
METHOD:PUBLISH
X-ORIGINAL-URL:https://iegcsa.org
X-WR-CALDESC:Events for Inland Empire Golf Course Superintendent Association
REFRESH-INTERVAL;VALUE=DURATION:PT1H
X-Robots-Tag:noindex
X-PUBLISHED-TTL:PT1H
BEGIN:VTIMEZONE
TZID:America/Los_Angeles
BEGIN:DAYLIGHT
TZOFFSETFROM:-0800
TZOFFSETTO:-0700
TZNAME:PDT
DTSTART:20240310T100000
END:DAYLIGHT
BEGIN:STANDARD
TZOFFSETFROM:-0700
TZOFFSETTO:-0800
TZNAME:PST
DTSTART:20241103T090000
END:STANDARD
BEGIN:DAYLIGHT
TZOFFSETFROM:-0800
TZOFFSETTO:-0700
TZNAME:PDT
DTSTART:20250309T100000
END:DAYLIGHT
BEGIN:STANDARD
TZOFFSETFROM:-0700
TZOFFSETTO:-0800
TZNAME:PST
DTSTART:20251102T090000
END:STANDARD
BEGIN:DAYLIGHT
TZOFFSETFROM:-0800
TZOFFSETTO:-0700
TZNAME:PDT
DTSTART:20260308T100000
END:DAYLIGHT
BEGIN:STANDARD
TZOFFSETFROM:-0700
TZOFFSETTO:-0800
TZNAME:PST
DTSTART:20261101T090000
END:STANDARD
END:VTIMEZONE
BEGIN:VEVENT
DTSTART;TZID=America/Los_Angeles:20250218T080000
DTEND;TZID=America/Los_Angeles:20250219T170000
DTSTAMP:20260424T141140
CREATED:20160809T183703Z
LAST-MODIFIED:20250116T195301Z
UID:1253-1739865600-1739984400@iegcsa.org
SUMMARY:Idaho GCSA Spring Meeting & Trade Show 2025
DESCRIPTION:See you in Boise at the Idaho GCSA Spring Meeting & Trade Show – February 18 & 19\, 2024.\nAll under one roof! Join us for great conversation\, always great education\, and a trade show in Boise\, Idaho\, at… \nThe Riverside Hotel\, BW Premier Collection\, Boise\, Idaho! This full-service hotel and convention center is located along the beautiful Boise River\, and is along the Boise River Greenbelt. You will find area options to explore that include a winery\, brewery\, restaurants and comedy club\, all within a half-mile walking distance. Downtown is easily accessible two miles away — an easy Uber ride. \nFor more information to register or reserve a booth\, in January visit the Idaho GCSA website to register – idahogcsa.org \n\n 
URL:https://iegcsa.org/event/idaho-gcsa-spring-meeting-trade-show-2017/
END:VEVENT
END:VCALENDAR