BEGIN:VCALENDAR
VERSION:2.0
PRODID:-//Inland Empire Golf Course Superintendent Association - ECPv6.15.18//NONSGML v1.0//EN
CALSCALE:GREGORIAN
METHOD:PUBLISH
X-ORIGINAL-URL:https://iegcsa.org
X-WR-CALDESC:Events for Inland Empire Golf Course Superintendent Association
REFRESH-INTERVAL;VALUE=DURATION:PT1H
X-Robots-Tag:noindex
X-PUBLISHED-TTL:PT1H
BEGIN:VTIMEZONE
TZID:America/Los_Angeles
BEGIN:DAYLIGHT
TZOFFSETFROM:-0800
TZOFFSETTO:-0700
TZNAME:PDT
DTSTART:20240310T100000
END:DAYLIGHT
BEGIN:STANDARD
TZOFFSETFROM:-0700
TZOFFSETTO:-0800
TZNAME:PST
DTSTART:20241103T090000
END:STANDARD
BEGIN:DAYLIGHT
TZOFFSETFROM:-0800
TZOFFSETTO:-0700
TZNAME:PDT
DTSTART:20250309T100000
END:DAYLIGHT
BEGIN:STANDARD
TZOFFSETFROM:-0700
TZOFFSETTO:-0800
TZNAME:PST
DTSTART:20251102T090000
END:STANDARD
BEGIN:DAYLIGHT
TZOFFSETFROM:-0800
TZOFFSETTO:-0700
TZNAME:PDT
DTSTART:20260308T100000
END:DAYLIGHT
BEGIN:STANDARD
TZOFFSETFROM:-0700
TZOFFSETTO:-0800
TZNAME:PST
DTSTART:20261101T090000
END:STANDARD
END:VTIMEZONE
BEGIN:VEVENT
DTSTART;TZID=America/Los_Angeles:20250618T100000
DTEND;TZID=America/Los_Angeles:20250618T140000
DTSTAMP:20260424T074835
CREATED:20170126T035924Z
LAST-MODIFIED:20250404T183043Z
UID:1447-1750240800-1750255200@iegcsa.org
SUMMARY:IEGCSA Summer Outing\, June 18 - Register here!
DESCRIPTION:Summer Outing\n\n \nWednesday\, June 18.  10:00 a.m.\n– Four-person Scramble (singles or partial teams welcome and will be paired) \n– Hosted by Tarquin Huff\, Golf Course Superintendent \nTake advantage of this opportunity… catch up with your peers to discuss/solve seasonal issues! It is also a great way to treat your grounds crew. \nJUNE 1:  YES! Sponsorship opportunities are available – reserve by June 1 to ensure proper signage.  Contact Lori. \nJUNE 11: Please register by June 11 so the course may plan for your participation. Late registrants will be accepted – but we ask you to please register by June 11. \nRegister below! $60 per person fee includes play\, cart\, box lunch\, and prize eligibility.\nREGISTRATION: \nTo register and pay online\, or register and request an invoice – SEE BELOW \n\n\n                \n                        \n                            (Register up to four players\, per online form\, for Summer Outing)\n                             \n                         \n	\n	Website Proudly Sponsored By:\n	\n	\n	\n	\n \n                        Summer Outing - Horn Rapids Golf Course\nWednesday\, June 18\, 202510:00 a.m. \nFour-person Shamble. \nPartial teams welcome and will be paired.\n $60.00 fee includes 18-hole play\, cart\, box lunch\, and prize eligibility\n  \nJune 1: Sponsor commitment deadline to ensure proper signage\n\nJune 11: Please register by June 11 to help facility prepare for your participation. Last minute registrations will be accepted\, but better to register early\, please!  \n  \nGolf Registration*0 Players1 Golfer2 Golfers3 Golfers4 GolfersPlease register by July 4 to help course prepare1st PlayerFull Name*\n                            \n                            \n                                                    \n                                                    First\n                                                \n                            \n                            \n                                                    \n                                                    Last\n                                                \n                            \n                        Handicap or best guess*2nd PlayerFull Name*\n                            \n                            \n                                                    \n                                                    First\n                                                \n                            \n                            \n                                                    \n                                                    Last\n                                                \n                            \n                        Handicap or best guess*3rd PlayerFull Name*\n                            \n                            \n                                                    \n                                                    First\n                                                \n                            \n                            \n                                                    \n                                                    Last\n                                                \n                            \n                        Handicap or best guess*4th PlayerFull Name*\n                            \n                            \n                                                    \n                                                    First\n                                                \n                            \n                            \n                                                    \n                                                    Last\n                                                \n                            \n                        Handicap or best guess*This field is hidden when viewing the form5th PlayerThis field is hidden when viewing the formFull Name*\n                            \n                            \n                                                    \n                                                    First\n                                                \n                            \n                            \n                                                    \n                                                    Last\n                                                \n                            \n                        This field is hidden when viewing the formHandicap or best guess*This field is hidden when viewing the form6th PlayerThis field is hidden when viewing the formFull Name*\n                            \n                            \n                                                    \n                                                    First\n                                                \n                            \n                            \n                                                    \n                                                    Last\n                                                \n                            \n                        This field is hidden when viewing the formHandicap or best guess*Sponsorship OpportunitiesJune 11 sponsorship commitments are due to ensure proper signage.Sponsorship Choices\n			\n				\n				Hole Sponsor $125\n			\n			\n				\n				Hole Sponsor plus pin prize $175\n			\n			\n				\n				Hole Sponsor plus 1 piece of equipment (or equivalent) $225\n			\n			\n				\n				Hole Sponsor plus 2 pieces of equipment (or equivalent) $325\n			\n			\n				\n				Not a Sponsor\n			Contact PersonName*\n                            \n                            \n                                                    \n                                                    First\n                                                \n                            \n                            \n                                                    \n                                                    Last\n                                                \n                            \n                        Phone NumberEmail Address*\n                            \n                        Payment DetailsPayment options*Payment by credit/debit card or PaypalInvoice MePaypal Online Payment Fee\n					\n					\n						Price:\n						$0.00\n					\n					\n					\n				Purchase Order NumberIf you have a purchase order\, please place it here. Total\n							$0.00\n							\n						\n          \n            \n            \n            \n            \n            \n            \n            \n            \n            \n            \n            \n            \n            \n        \n                        Δ \n                        \n\n  \n  \n  \n  \n  \n  \n 
URL:https://iegcsa.org/event/inland-empire-gcsa-summer-outing/
END:VEVENT
END:VCALENDAR