BEGIN:VCALENDAR
VERSION:2.0
PRODID:-//Inland Empire Golf Course Superintendent Association - ECPv6.15.18//NONSGML v1.0//EN
CALSCALE:GREGORIAN
METHOD:PUBLISH
X-ORIGINAL-URL:https://iegcsa.org
X-WR-CALDESC:Events for Inland Empire Golf Course Superintendent Association
REFRESH-INTERVAL;VALUE=DURATION:PT1H
X-Robots-Tag:noindex
X-PUBLISHED-TTL:PT1H
BEGIN:VTIMEZONE
TZID:America/Los_Angeles
BEGIN:DAYLIGHT
TZOFFSETFROM:-0800
TZOFFSETTO:-0700
TZNAME:PDT
DTSTART:20240310T100000
END:DAYLIGHT
BEGIN:STANDARD
TZOFFSETFROM:-0700
TZOFFSETTO:-0800
TZNAME:PST
DTSTART:20241103T090000
END:STANDARD
BEGIN:DAYLIGHT
TZOFFSETFROM:-0800
TZOFFSETTO:-0700
TZNAME:PDT
DTSTART:20250309T100000
END:DAYLIGHT
BEGIN:STANDARD
TZOFFSETFROM:-0700
TZOFFSETTO:-0800
TZNAME:PST
DTSTART:20251102T090000
END:STANDARD
BEGIN:DAYLIGHT
TZOFFSETFROM:-0800
TZOFFSETTO:-0700
TZNAME:PDT
DTSTART:20260308T100000
END:DAYLIGHT
BEGIN:STANDARD
TZOFFSETFROM:-0700
TZOFFSETTO:-0800
TZNAME:PST
DTSTART:20261101T090000
END:STANDARD
END:VTIMEZONE
BEGIN:VEVENT
DTSTART;TZID=America/Los_Angeles:20251013T070000
DTEND;TZID=America/Los_Angeles:20251014T170000
DTSTAMP:20260424T014849
CREATED:20250613T233008Z
LAST-MODIFIED:20251009T153547Z
UID:5187-1760338800-1760461200@iegcsa.org
SUMMARY:Northwest GCSA Turfgrass Expo III 2025 - enjoy this incredible opportunity!
DESCRIPTION:GCSAA EDUs .75\, pesticide recertification credit: (2) Wyo\, (2) Idaho\, (2) Mont.\, Wash. (2)\n \nSPECIAL NOTE:  CDA NATIONAL RESERVE will be “cash only” for beverages. Credit cards can be used in the proshop. \nWe have been waiting four years… Three GCSA chapters in the Northwest will join together for a special event\, for the third time. Enjoy meaningful conversations with your peers and outstanding education\, all in a beautiful setting.\n \nNorthwest GCSA Turfgrass Expo III\nOctober 13 & 14\, 2025\nThe Coeur d’Alene Resort \nRegistration is open to all in the industry and participation is not limited by boundaries. We encourage you to register early. Both golf and trade show space are limited. \nINFORMATION: \nIMPORTANT: Do you have a change to your existing registration?  Please click here to communicate a change or additional information:  CLICK HERE \nCLICK HERE  EVENT AGENDA – hosted by Idaho GCSA\, Inland Empire GCSA and Peaks & Prairies GCSA \nCLICK HERE  HOTEL ROOM information – Reserve BY Sept 23\, 2025    (Our room block has been extended!) \n \nCLICK HERE   INFORMATION summary for TRADE SHOW \nCLICK HERE   INFORMATION summary for GOLF \nONLINE REGISTRATION:\nCLICK HERE CONFERENCE REGISTRATION and SPONSORSHIP OPPORTUNITIES (not reserving a booth) \nCLICK HERE TRADE SHOW and SPONSORSHIP opportunities (Booth registration open to members of record until July 15\, open to all new and present members after July 15).  \nSHIPPING INFORMATION for TRADE SHOW (it is okay you don’t have booth #): CLICK HERE \nGather the evening prior: SUNDAY – 7:00 p.m. Meet your fellow conference attendees and see old friends while you join for a no-host gathering at Coeur d’Alene Taphouse Unchained. Unchained is located across from The CDA Resort Hotel\, or can be accessed by the hotel sky bridge. \nThe event will include a trade show supported by allied partners from each of the three associations. The opportunity to interact with our knowledgeable supporters offers the opportunity to improve your course conditions with the latest products and technology. Trade show space is limited and we encourage you to reserve your booth as soon as possible when registration in open. \nClosing the conference will be a golf opportunity at two incredible facilities – CDA National Reserve\, host superintendent Zach Bauer\, CGCS\, and The Coeur d’Alene Resort\, host superintendent Tom Walker. \n(Due to guarantees: No refunds after 10:00 a.m. October 9\, as stated on meeting registration forms. No refunds on trade show booths after October 3\, as stated on registration forms. Thank you for understanding! ) \n 
URL:https://iegcsa.org/event/conference-registration-is-open-northwest-gcsa-turfgrass-expo-iii-2025/
END:VEVENT
END:VCALENDAR