BEGIN:VCALENDAR
VERSION:2.0
PRODID:-//Inland Empire Golf Course Superintendent Association - ECPv6.15.18//NONSGML v1.0//EN
CALSCALE:GREGORIAN
METHOD:PUBLISH
X-WR-CALNAME:Inland Empire Golf Course Superintendent Association
X-ORIGINAL-URL:https://iegcsa.org
X-WR-CALDESC:Events for Inland Empire Golf Course Superintendent Association
REFRESH-INTERVAL;VALUE=DURATION:PT1H
X-Robots-Tag:noindex
X-PUBLISHED-TTL:PT1H
BEGIN:VTIMEZONE
TZID:America/Los_Angeles
BEGIN:DAYLIGHT
TZOFFSETFROM:-0800
TZOFFSETTO:-0700
TZNAME:PDT
DTSTART:20250309T100000
END:DAYLIGHT
BEGIN:STANDARD
TZOFFSETFROM:-0700
TZOFFSETTO:-0800
TZNAME:PST
DTSTART:20251102T090000
END:STANDARD
BEGIN:DAYLIGHT
TZOFFSETFROM:-0800
TZOFFSETTO:-0700
TZNAME:PDT
DTSTART:20260308T100000
END:DAYLIGHT
BEGIN:STANDARD
TZOFFSETFROM:-0700
TZOFFSETTO:-0800
TZNAME:PST
DTSTART:20261101T090000
END:STANDARD
BEGIN:DAYLIGHT
TZOFFSETFROM:-0800
TZOFFSETTO:-0700
TZNAME:PDT
DTSTART:20270314T100000
END:DAYLIGHT
BEGIN:STANDARD
TZOFFSETFROM:-0700
TZOFFSETTO:-0800
TZNAME:PST
DTSTART:20271107T090000
END:STANDARD
END:VTIMEZONE
BEGIN:VEVENT
DTSTART;TZID=America/Los_Angeles:20260309T070000
DTEND;TZID=America/Los_Angeles:20260310T120000
DTSTAMP:20260423T171658
CREATED:20231109T184632Z
LAST-MODIFIED:20260301T200722Z
UID:1251-1773039600-1773144000@iegcsa.org
SUMMARY:Register HERE! Inland Empire GCSA 2026 "Nearly" Spring Meeting
DESCRIPTION:March 9 & 10\, 2026\, Meadow Springs Country Club\n\nEnjoy education\, golf and silent auction all at Meadow Springs!\n\nAGENDA: CLICK HERE to download or view a conference agenda as a PDF \nEarly registration rate is available until February 24! \nEARN (2) Idaho and (2) Washington pesticide recertification credit. Earn .55 GCSAA EDUs.\n \nONLINE registration & sponsorship opportunities:  CLICK HERE request an invoice or pay by credit/debit card – \nDress code at Country Club: no jeans and a collared shirt\, or a mock collar\, is required. Host superintendent\, Charlie Jones \n~ The William Griffith Distinguished Service is an award presented by the board to a deserving individual – and it is not an annual award. Please join us at this event where it will be presented to Roy Studebaker. \n~ In addition to our featured speakers\, enjoy a presentation from your peers! \n* HOTEL BLOCK has been extended –  TownePlace Suites\, Richland (509-943-9800) Specify the Inland Empire GCSA for our rate of :  Single $154+ tax\, Double $164+ tax \n \nOnline Link for hotel reservation:CLICK HERE \nTownePlace Suites is perfectly located with restaurants within walking distance and includes continental breakfast. \n(Board meeting will be Sunday\, March 8) \n~ SILENT AUCTION: We would appreciate your donation of silent auction items! To donate:  CLICK HERE \nWe encourage all members/courses/companies to consider a donation.  We have seen a wide variety of donations and we appreciate all of them.  This is a great opportunity to walk away with items you would purchase anyway – and the association benefits financially.  Have a donation? Click the above link to complete the online donation form… or contact  Mike Bednar (509) 592-3794 or Mike Kingsley (509) 900-8843. \nNo refunds after 9 a.m. on March 5\, due to guarantees. Thank you in advance for your understanding.\n \nEVENT SPONSOR: \n  \n \n  \n 
URL:https://iegcsa.org/event/inland-empire-gcsa-spring-meeting-2/
ATTACH;FMTTYPE=image/jpeg:https://iegcsa.org/wp-content/uploads/2023/11/website-banner-for-IEGCSASM26speakersbanner.jpg
END:VEVENT
END:VCALENDAR