BEGIN:VCALENDAR
VERSION:2.0
PRODID:-//Inland Empire Golf Course Superintendent Association - ECPv6.15.18//NONSGML v1.0//EN
CALSCALE:GREGORIAN
METHOD:PUBLISH
X-ORIGINAL-URL:https://iegcsa.org
X-WR-CALDESC:Events for Inland Empire Golf Course Superintendent Association
REFRESH-INTERVAL;VALUE=DURATION:PT1H
X-Robots-Tag:noindex
X-PUBLISHED-TTL:PT1H
BEGIN:VTIMEZONE
TZID:America/Los_Angeles
BEGIN:DAYLIGHT
TZOFFSETFROM:-0800
TZOFFSETTO:-0700
TZNAME:PDT
DTSTART:20250309T100000
END:DAYLIGHT
BEGIN:STANDARD
TZOFFSETFROM:-0700
TZOFFSETTO:-0800
TZNAME:PST
DTSTART:20251102T090000
END:STANDARD
BEGIN:DAYLIGHT
TZOFFSETFROM:-0800
TZOFFSETTO:-0700
TZNAME:PDT
DTSTART:20260308T100000
END:DAYLIGHT
BEGIN:STANDARD
TZOFFSETFROM:-0700
TZOFFSETTO:-0800
TZNAME:PST
DTSTART:20261101T090000
END:STANDARD
BEGIN:DAYLIGHT
TZOFFSETFROM:-0800
TZOFFSETTO:-0700
TZNAME:PDT
DTSTART:20270314T100000
END:DAYLIGHT
BEGIN:STANDARD
TZOFFSETFROM:-0700
TZOFFSETTO:-0800
TZNAME:PST
DTSTART:20271107T090000
END:STANDARD
BEGIN:DAYLIGHT
TZOFFSETFROM:-0800
TZOFFSETTO:-0700
TZNAME:PDT
DTSTART:20280312T100000
END:DAYLIGHT
BEGIN:STANDARD
TZOFFSETFROM:-0700
TZOFFSETTO:-0800
TZNAME:PST
DTSTART:20281105T090000
END:STANDARD
END:VTIMEZONE
BEGIN:VEVENT
DTSTART;TZID=America/Los_Angeles:20260707T113000
DTEND;TZID=America/Los_Angeles:20260707T113000
DTSTAMP:20260423T173515
CREATED:20220921T170003Z
LAST-MODIFIED:20260415T135416Z
UID:1814-1783423800-1783423800@iegcsa.org
SUMMARY:Inland Empire GCSA Summer Outing - save the July 7 date!
DESCRIPTION:We have a fantastic location that will offer a perfectly timed break!   \nCatch up with your peers at Circling Raven Golf Club\, Worley\, Idaho \nJoin us July 7\, 2026! Hosted by Kal Zaranec\, GCS. \nField is limited to 72 players. \n~  Details and registration information available soon. \n$60 fee includes play\, cart\, box lunch and prizes. \nVARIOUS Sponsorship opportunities will be available – reserve your hole sponsor by June 19 to ensure proper signage onsite. \n  \n  \n 
URL:https://iegcsa.org/event/summer-outing-join-the-iegcsa/
ATTACH;FMTTYPE=image/jpeg:https://iegcsa.org/wp-content/uploads/2022/09/circling-raven-logo.jpg
END:VEVENT
BEGIN:VEVENT
DTSTART;TZID=America/Los_Angeles:20260806T103000
DTEND;TZID=America/Los_Angeles:20260806T170000
DTSTAMP:20260423T173515
CREATED:20220615T213820Z
LAST-MODIFIED:20260409T232714Z
UID:3537-1786012200-1786035600@iegcsa.org
SUMMARY:Save the date! 2026 Crew Challenge - Aug 6 shotgun
DESCRIPTION:Plan to play Palouse Ridge on Wednesday\, August 6\, 10:30 a.m. shotgun! \nWe will have two flights to accommodate everyone for play. However\, only the winners of the course crew flight will advance to the 2025 championship. \nNote: Two lower budget facilities can combine and play on the same team. \nThe Inland Empire GCSA Golf Crew Challenge Flight will determine the two winning teams to participate in the 2026 Northwest Golf Crew Championship – joining Western Washington GCSA and Oregon GCSA!  Date and location this fall is TBA. \nHOLE SPONSORS ARE WELCOME! \nRegistration will open this summer. \n \n 
URL:https://iegcsa.org/event/save-the-date-crew-challenge-aug-6/
END:VEVENT
BEGIN:VEVENT
DTSTART;TZID=America/Los_Angeles:20260831T080000
DTEND;TZID=America/Los_Angeles:20260831T170000
DTSTAMP:20260423T173515
CREATED:20250717T021614Z
LAST-MODIFIED:20260315T150447Z
UID:5238-1788163200-1788195600@iegcsa.org
SUMMARY:Scholarship Deadline is August 31 - supported by IEGCSA
DESCRIPTION:NTA Scholarship Deadline is August 31. \nThe Inland Empire GCSA helps fund the annual scholarships \nPlease contact the NTA for more information how to apply and eligibility requirements. \nhttps://nwturfgrass.net/index.html
URL:https://iegcsa.org/event/scholarship-deadline-is-august-31-supported-by-iegcsa/
END:VEVENT
BEGIN:VEVENT
DTSTART;TZID=America/Los_Angeles:20261118T071500
DTEND;TZID=America/Los_Angeles:20261119T130000
DTSTAMP:20260423T173515
CREATED:20221117T051938Z
LAST-MODIFIED:20260330T182239Z
UID:709-1794986100-1795093200@iegcsa.org
SUMMARY:Inland Empire GCSA Fall Meeting & Trade Show - 2026! (Note days of the week!)
DESCRIPTION:Join us in 2026 at The Centennial! Nov 18 & 19\, 2026 (Wed – Thurs). The trade show will be November 18. \nLocated in downtown Spokane near the Spokane River\, this updated Davenport hotel property will host our 2026 Fall Meeting & Trade Show! \nOur conference and trade show has it all – education with a wide variety of topics – PLUS – our knowledgeable allied partners on hand at the trade show to help you produce the best possible course conditions within your budget! \nWhen the event is over for the day\, enjoy everything downtown has to offer. \nWatch for conference information available in September\, 2026. \n(Board meeting will be Nov 17)
URL:https://iegcsa.org/event/inland-empire-gcsa-fall-meeting-trade-show/
LOCATION:The Centennial
ATTACH;FMTTYPE=image/jpeg:https://iegcsa.org/wp-content/uploads/2014/11/davenport-hotel-over-shot-for-website-scaled.jpg
END:VEVENT
BEGIN:VEVENT
DTSTART;TZID=America/Los_Angeles:20270120T180000
DTEND;TZID=America/Los_Angeles:20270120T200000
DTSTAMP:20260423T173515
CREATED:20160809T184143Z
LAST-MODIFIED:20260307T174638Z
UID:1254-1800468000-1800475200@iegcsa.org
SUMMARY:Chapters of the Northwest Hospitality Room - Wed\, January 20
DESCRIPTION:When in New Orleans for the GCSAA 2027 CTS…\nLet’s meet January 20\, 2027 for the Chapters of the Northwest Hospitality Room!\nIt will be another great evening with the six chapters participating!  6:00 p.m. – 8:00 p.m. \nPlease note the time change! \nMore details to come. \n 
URL:https://iegcsa.org/event/chapters-of-the-northwest-hospitality-room-2/
END:VEVENT
END:VCALENDAR