BEGIN:VCALENDAR
VERSION:2.0
PRODID:-//Inland Empire Golf Course Superintendent Association - ECPv6.15.18//NONSGML v1.0//EN
CALSCALE:GREGORIAN
METHOD:PUBLISH
X-WR-CALNAME:Inland Empire Golf Course Superintendent Association
X-ORIGINAL-URL:https://iegcsa.org
X-WR-CALDESC:Events for Inland Empire Golf Course Superintendent Association
REFRESH-INTERVAL;VALUE=DURATION:PT1H
X-Robots-Tag:noindex
X-PUBLISHED-TTL:PT1H
BEGIN:VTIMEZONE
TZID:America/Los_Angeles
BEGIN:DAYLIGHT
TZOFFSETFROM:-0800
TZOFFSETTO:-0700
TZNAME:PDT
DTSTART:20200308T100000
END:DAYLIGHT
BEGIN:STANDARD
TZOFFSETFROM:-0700
TZOFFSETTO:-0800
TZNAME:PST
DTSTART:20201101T090000
END:STANDARD
BEGIN:DAYLIGHT
TZOFFSETFROM:-0800
TZOFFSETTO:-0700
TZNAME:PDT
DTSTART:20210314T100000
END:DAYLIGHT
BEGIN:STANDARD
TZOFFSETFROM:-0700
TZOFFSETTO:-0800
TZNAME:PST
DTSTART:20211107T090000
END:STANDARD
BEGIN:DAYLIGHT
TZOFFSETFROM:-0800
TZOFFSETTO:-0700
TZNAME:PDT
DTSTART:20220313T100000
END:DAYLIGHT
BEGIN:STANDARD
TZOFFSETFROM:-0700
TZOFFSETTO:-0800
TZNAME:PST
DTSTART:20221106T090000
END:STANDARD
END:VTIMEZONE
BEGIN:VEVENT
DTSTART;TZID=America/Los_Angeles:20211011T070000
DTEND;TZID=America/Los_Angeles:20211012T170000
DTSTAMP:20260425T045914
CREATED:20210611T153728Z
LAST-MODIFIED:20211008T164055Z
UID:743-1633935600-1634058000@iegcsa.org
SUMMARY:Northwest GCSA Turfgrass Expo 2021 - A combined event!
DESCRIPTION:For the second time\, three GCSA chapters in the Northwest will join together for a special event\, October 11 & 12\, 2021\, at the The Coeur d’Alene Resort. \nSUNDAY – 7:00 p.m. Gather – meet your fellow conference attendees and see old friends while you join for a no-host gathering at Coeur d’Alene Taphouse Unchained. Unchained is located across from The CDA Resort Hotel\, or can be accessed by the hotel sky bridge. \nEVENT AGENDA – Click here to view or download the onsite agenda. Event hosted by Idaho GCSA\, Inland Empire GCSA and Peaks & Prairies GCSA \nRegistration is open to all in the industry and participation is not limited by boundaries.  \nEarn .85 GCSAA EDUs\, (4) Washington\, (3) Idaho\, (4) Montana\, and (5) Wyoming Pesticide Recertification Credits \nOnline registration offers an option to complete your registration online (receive an immediate confirmation via email of your submission) and either request an invoice to submit with a check – or pay online with a credit or debit card. \nHotel Room Block:   While our block has ended – the hotel might honor the rate of $139.00 plus taxes and fees. Ask for the Northwest GCSA rate! Call (888)965-6542\, press 2 and then press 1. Specify Northwest GCSA \nCall (888)965-6542\, press 2 and then press 1. Specify Northwest GCSA \nWe ask everyone to please abide by our conference registration cancellation policy of 10:00 a.m.\, Oct 7\, as indicated on conference registration material. Property changed their requirements and guarantees were submitted on the morning of Oct 6. We are financially responsible for all registrants as of that time. \n— \nEVENT Agenda – view or download as PDF: Agenda Northwest GCSA Turfgrass Expo \nONLINE Options: \nTRADE SHOW BOOTH – reserve online click HERE \nConference registration – online click HERE \nHotel Reservation PDF – click HERE \nDownload PDFs: \nAgenda Northwest GCSA Turfgrass Expo \nHotel Reservation PDF – click HERE \nThe conference will bring together several engaging and highly respected speakers in the turf industry to share their knowledge\, experience\, and research. Joining us will be Brian Horgan\, PhD\, Michigan State University; Henry DeLozier\, GGA Partners; Mike Richardson\, PhD\, University of Arkansas; Paul Koch\, PhD\, University of Wisconsin-Madison; and Cory Isom\, USGA Green Section. \nThe conference will be moderated by Gerald Flaherty\, CGCS\,The Valley Club\, Hailey\, Idaho. \nThe event will include a trade show supported by allied partners from each of the three associations.The opportunity to interact with our knowledgeable supporters offers the opportunity to improve your course conditions with the latest products and technology. Trade show space is limited and we encourage you to reserve your booth as soon as possible when registration in open. \nClosing the conference will be a golf challenge at the beautiful Coeur d’Alene Resort and Circling Raven Golf Club. Coeur d’Alene Resort Host superintendent Tom Walker\, and at Circling Raven Golf Club\, Host superintendent\, Brian Woster \nJoin us at this memorable fall event. Enjoy meaningful conversations with your peers and outstanding education\, all in a beautiful setting. \nULTIMATE DIAMOND SPONSOR: \n \n  \n 
URL:https://iegcsa.org/event/northwest-turfgrass-expo-2021-a-combined-event/
LOCATION:Coeur d’Alene Resort\, 115 S 2nd St\, Coeur d'Alene\, 83814\, United States
ATTACH;FMTTYPE=image/jpeg:https://iegcsa.org/wp-content/uploads/2021/06/Expo-trade-show-banner-21-2-use-SM.jpg
END:VEVENT
END:VCALENDAR