BEGIN:VCALENDAR
VERSION:2.0
PRODID:-//Inland Empire Golf Course Superintendent Association - ECPv6.15.18//NONSGML v1.0//EN
CALSCALE:GREGORIAN
METHOD:PUBLISH
X-ORIGINAL-URL:https://iegcsa.org
X-WR-CALDESC:Events for Inland Empire Golf Course Superintendent Association
REFRESH-INTERVAL;VALUE=DURATION:PT1H
X-Robots-Tag:noindex
X-PUBLISHED-TTL:PT1H
BEGIN:VTIMEZONE
TZID:America/Los_Angeles
BEGIN:DAYLIGHT
TZOFFSETFROM:-0800
TZOFFSETTO:-0700
TZNAME:PDT
DTSTART:20240310T100000
END:DAYLIGHT
BEGIN:STANDARD
TZOFFSETFROM:-0700
TZOFFSETTO:-0800
TZNAME:PST
DTSTART:20241103T090000
END:STANDARD
BEGIN:DAYLIGHT
TZOFFSETFROM:-0800
TZOFFSETTO:-0700
TZNAME:PDT
DTSTART:20250309T100000
END:DAYLIGHT
BEGIN:STANDARD
TZOFFSETFROM:-0700
TZOFFSETTO:-0800
TZNAME:PST
DTSTART:20251102T090000
END:STANDARD
BEGIN:DAYLIGHT
TZOFFSETFROM:-0800
TZOFFSETTO:-0700
TZNAME:PDT
DTSTART:20260308T100000
END:DAYLIGHT
BEGIN:STANDARD
TZOFFSETFROM:-0700
TZOFFSETTO:-0800
TZNAME:PST
DTSTART:20261101T090000
END:STANDARD
END:VTIMEZONE
BEGIN:VEVENT
DTSTART;TZID=America/Los_Angeles:20250813T103000
DTEND;TZID=America/Los_Angeles:20250813T150000
DTSTAMP:20260424T031616
CREATED:20210709T224119Z
LAST-MODIFIED:20250620T154247Z
UID:3112-1755081000-1755097200@iegcsa.org
SUMMARY:IEGCSA 2025 Golf Crew Challenge - 10:30 a.m. shotgun
DESCRIPTION:Register below for the IEGCSA 2025 Golf Crew Challenge – August 13\, 2025\n \nWe have two flights available so everyone can play – Please register by August 6. \n~ Shotgun!  10:30 a.m. includes lunch during play.\n \n~ Golf Crew Challenge Flight – $240 Team\, Four-person scramble\n \n~ Play Golf Flight – $60 Per player\, Four-person scramble  \nHole Sponsors are welcome and appreciated! Please commit by July 29 to ensure signage. \nGolf Crew Challenge Flight  –This flight is strictly limited to golf course grounds crews\, superintendents and assistants from same facility (sorry\, no pro shop ringers allowed) – with one exception…EXCEPTION: Two lower budget facilities who do not have the number of staff employed at the facility to complete a team can join together to make a team. Again\, only employees from grounds department. (Any question about eligibility will be determined by the chapters) \nPlease be aware only the Inland Empire GCSA Golf Crew Challenge Flight will determine the two winning teams to participate in the 2025 Northwest Golf Crew Championship – joining Western Washington GCSA and Oregon GCSA!  Date and location TBA for the event. \nLodging assistance will be offered to the IEGCSA teams representing the association at the championship\, if needed. \nPlay Golf Flight – $60 Per player\, Four-person scramble  (Partial teams will be paired.) Everyone is welcome! (This flight will not be eligible to play in the Northwest Golf Crew Championship with OGCSA and WWGCSA ) \nPlay for all includes 18-hole play/cart\, and meal. \nMike Bednar\, Host superintendent \nPalouse Ridge Golf Course\, Pullman\, Wash\n\n\n                \n                        \n                            Crew Golf Challenge\n                             \n                         \n	\n	Website Proudly Sponsored By:\n	\n	\n	\n	\n \n                        2025 Golf Crew Golf Challenge\nWednesday\, August 13 Palouse Ridge Golf Course Pullman\, Washington10:30 a.m. Shotgun  - Four-Person Scramble (Please register by August 6).\n   \nTWO flights available:\n   \nGOLF CREW CHALLENGE\n $240.00 team fee includes 18-hole play/cart\, and box lunch. \n  \nTeam must consist of golf course grounds employees (superintendents/assistants welcome). See above for rules/restrictions.\n  \n\nPLAY GOLF FLIGHT\n$60 per player - everyone can play. Fee includes 18-hole play/cart\, and box lunch\n  \nPartial teams will be paired. \n  Golf course(s) represented for Team / or Course or company for individual playAre you registering your team to compete in the Golf Course Crew Challenge Flight?\n			\n				\n				Yes\n			\n			\n				\n				No\, I am registering to play in the Play Golf Flight. (Partial or full teams welcome.)\n			\n			\n				\n				Not registering any teams\n			1st PlayerFull Name (1st Crew Challenge Player)*\n                            \n                            \n                                                    \n                                                    First\n                                                \n                            \n                            \n                                                    \n                                                    Last\n                                                \n                            \n                        Handicap or best guess (1st Crew Challenge Player)*Full Name  (1st Play Golf Flight Player)\n                            \n                            \n                                                    \n                                                    First\n                                                \n                            \n                            \n                                                    \n                                                    Last\n                                                \n                            \n                        Handicap or best guess  (1st Play Golf Flight Player)Player 1 Pricing\n					\n					\n						Price:\n						\n					\n					\n				2nd PlayerFull Name (2nd Crew Challenge Player)*\n                            \n                            \n                                                    \n                                                    First\n                                                \n                            \n                            \n                                                    \n                                                    Last\n                                                \n                            \n                        Handicap or best guess (2nd Crew Challenge Player)*Full Name (2nd Play Golf Flight Player)\n                            \n                            \n                                                    \n                                                    First\n                                                \n                            \n                            \n                                                    \n                                                    Last\n                                                \n                            \n                        Handicap or best guess (2nd Play Golf Flight Player)Player 2 Pricing\n					\n					\n						Price:\n						\n					\n					\n				3rd PlayerFull Name (3rd Crew Challenge Player)*\n                            \n                            \n                                                    \n                                                    First\n                                                \n                            \n                            \n                                                    \n                                                    Last\n                                                \n                            \n                        Handicap or best guess (3rd Crew Challenge Player)*Full Name (3rd Play Golf Flight Player)\n                            \n                            \n                                                    \n                                                    First\n                                                \n                            \n                            \n                                                    \n                                                    Last\n                                                \n                            \n                        Handicap or best guess (3rd Play Golf Flight Player)Player 3 Pricing\n					\n					\n						Price:\n						\n					\n					\n				4th PlayerFull Name (4th Crew Challenge Player)*\n                            \n                            \n                                                    \n                                                    First\n                                                \n                            \n                            \n                                                    \n                                                    Last\n                                                \n                            \n                        Handicap or best guess (4th Crew Challenge Player)*Full Name (4th Play Golf Flight Player)\n                            \n                            \n                                                    \n                                                    First\n                                                \n                            \n                            \n                                                    \n                                                    Last\n                                                \n                            \n                        Handicap or best guess (4th Play Golf Flight Player)Player 4 Pricing\n					\n					\n						Price:\n						\n					\n					\n				Sponsorship OpportunitiesJuly 25 sponsorship commitments are due to ensure proper signage.Sponsorship Choices\n			\n				\n				Hole Sponsor $125\n			\n			\n				\n				Hole Sponsor plus pin prize $175\n			\n			\n				\n				Hole Sponsor plus 1 piece of equipment (or equivalent) $225\n			\n			\n				\n				Hole Sponsor plus 2 pieces of equipment (or equivalent) $300\n			\n			\n				\n				Not a Sponsor\n			Contact PersonName*\n                            \n                            \n                                                    \n                                                    First\n                                                \n                            \n                            \n                                                    \n                                                    Last\n                                                \n                            \n                        Phone NumberEmail Address*\n                            \n                        Payment DetailsChallenge Price*$60/player\n					\n					\n						Price:\n						\n					\n					\n				Play Golf Flight: $60/player\n							$0.00\n							\n						Includes credit/debit card fee if selected below.Payment options*Payment by credit/debit card or PaypalInvoice MePaypal Online Payment Fee\n					\n					\n						Price:\n						$0.00\n					\n					\n					\n				This field is hidden when viewing the formPurchase Order NumberIf you have a purchase order\, please place it here. Total\n							$0.00\n							\n						\n          \n            \n            \n            \n            \n            \n            \n            \n            \n            \n            \n            \n            \n            \n        \n                        Δ
URL:https://iegcsa.org/event/iegcsa-golf-crew-challenge-registration-is-open/
ATTACH;FMTTYPE=image/jpeg:https://iegcsa.org/wp-content/uploads/2020/04/Palouse-2020.jpg
END:VEVENT
END:VCALENDAR